BEGIN:VCALENDAR
VERSION:2.0
PRODID:-//http://www.dwh.co.il///NONSGML kigkonsult.se iCalcreator 2.10.15//
METHOD:PUBLISH
BEGIN:VEVENT
UID:20210527T065800UTC-9979KzvUpA@http://www.dwh.co.il/
DTSTAMP:20210527T065800Z
DESCRIPTION:בתאריך ה4.5.2021 יתקיים מפגש בנושא שיפור ביצועים של&nbsp\;Apach
 e Airflow.\n\nבתוכנית:\n18:00 דיון בנושא שיפור ביצועים וצטרת עבודה מיטבית 
 \, מרצה: אומיד והדטי.\nהמפגש יתקיים בשפה האנגלית.\nלפרטים נוספים והרשמה\, 
 הכנסו ללינק זה. http://www.dwh.co.il/events/event/258-apache-airflow
DTSTART:20210504T150000Z
DTEND:20210504T160000Z
LOCATION:Online ()
SUMMARY:מפגש בנושא שיפור ביצועים של Apache Airflow
URL:http://www.dwh.co.il/events/event/258-apache-airflow
END:VEVENT
END:VCALENDAR
